BEGIN:VCALENDAR
VERSION:2.0
PRODID:-//Patrick Breyer - ECPv6.15.20//NONSGML v1.0//EN
CALSCALE:GREGORIAN
METHOD:PUBLISH
X-WR-CALNAME:Patrick Breyer
X-ORIGINAL-URL:https://www.patrick-breyer.de
X-WR-CALDESC:Veranstaltungen für Patrick Breyer
REFRESH-INTERVAL;VALUE=DURATION:PT1H
X-Robots-Tag:noindex
X-PUBLISHED-TTL:PT1H
BEGIN:VTIMEZONE
TZID:Europe/Berlin
BEGIN:DAYLIGHT
TZOFFSETFROM:+0100
TZOFFSETTO:+0200
TZNAME:CEST
DTSTART:20180325T010000
END:DAYLIGHT
BEGIN:STANDARD
TZOFFSETFROM:+0200
TZOFFSETTO:+0100
TZNAME:CET
DTSTART:20181028T010000
END:STANDARD
BEGIN:DAYLIGHT
TZOFFSETFROM:+0100
TZOFFSETTO:+0200
TZNAME:CEST
DTSTART:20190331T010000
END:DAYLIGHT
BEGIN:STANDARD
TZOFFSETFROM:+0200
TZOFFSETTO:+0100
TZNAME:CET
DTSTART:20191027T010000
END:STANDARD
BEGIN:DAYLIGHT
TZOFFSETFROM:+0100
TZOFFSETTO:+0200
TZNAME:CEST
DTSTART:20200329T010000
END:DAYLIGHT
BEGIN:STANDARD
TZOFFSETFROM:+0200
TZOFFSETTO:+0100
TZNAME:CET
DTSTART:20201025T010000
END:STANDARD
END:VTIMEZONE
BEGIN:VEVENT
DTSTART;TZID=Europe/Berlin:20190411T193000
DTEND;TZID=Europe/Berlin:20190411T213000
DTSTAMP:20260423T001233
CREATED:20190301T145012Z
LAST-MODIFIED:20190301T145012Z
UID:575459-1555011000-1555018200@www.patrick-breyer.de
SUMMARY:Am 11.4. in Frankfurt/Main: #Artikel13. Was jetzt? – Patrick Breyer trifft Jonathan Babelotzky
DESCRIPTION:Die PIRATEN laden zu einer Diskussion zum Thema “#Artikel13. Was jetzt?” ein. \nWann: 11. April 2019\, um 19:30 Uhr \nWo: Haus der Jugend\, Deutschherrnufer 12\, Frankfurt \nNach europaweiten Protesten und der Abstimmung des Europaparlaments über die Urheberrechtsreform werden Dr. Patrick Breyer\, Spitzenkandidat der Piratenpartei Deutschland für die Europawahl\, und Jonathan Babelotzky\, Bundesthemenbeauftragter der PIRATEN für Urheberrecht über die Hintergründe\, die nächsten Schritte und Handlungsoptionen sprechen: Muss Deutschland die EU-Richtlinie umsetzen und Uploadfilter einführen? Kann man dagegen klagen? Wie lässt sich eine solche Abstimmung gegen den Willen und das Interesse der Bürger in Zukunft verhindern? Kommt als nächstes der Uploadfilter für “terroristische Inhalte” (TERREG)?
URL:https://www.patrick-breyer.de/event/artikel13-was-jetzt/
LOCATION:Haus der Jugend\, Deutschherrnufer 12\, 60695 Frankfurt\, Deutschland
END:VEVENT
END:VCALENDAR