BEGIN:VCALENDAR
VERSION:2.0
PRODID:-//Patrick Breyer - ECPv6.15.20//NONSGML v1.0//EN
CALSCALE:GREGORIAN
METHOD:PUBLISH
X-WR-CALNAME:Patrick Breyer
X-ORIGINAL-URL:https://www.patrick-breyer.de
X-WR-CALDESC:Veranstaltungen für Patrick Breyer
REFRESH-INTERVAL;VALUE=DURATION:PT1H
X-Robots-Tag:noindex
X-PUBLISHED-TTL:PT1H
BEGIN:VTIMEZONE
TZID:Europe/Berlin
BEGIN:DAYLIGHT
TZOFFSETFROM:+0100
TZOFFSETTO:+0200
TZNAME:CEST
DTSTART:20230326T010000
END:DAYLIGHT
BEGIN:STANDARD
TZOFFSETFROM:+0200
TZOFFSETTO:+0100
TZNAME:CET
DTSTART:20231029T010000
END:STANDARD
BEGIN:DAYLIGHT
TZOFFSETFROM:+0100
TZOFFSETTO:+0200
TZNAME:CEST
DTSTART:20240331T010000
END:DAYLIGHT
BEGIN:STANDARD
TZOFFSETFROM:+0200
TZOFFSETTO:+0100
TZNAME:CET
DTSTART:20241027T010000
END:STANDARD
BEGIN:DAYLIGHT
TZOFFSETFROM:+0100
TZOFFSETTO:+0200
TZNAME:CEST
DTSTART:20250330T010000
END:DAYLIGHT
BEGIN:STANDARD
TZOFFSETFROM:+0200
TZOFFSETTO:+0100
TZNAME:CET
DTSTART:20251026T010000
END:STANDARD
END:VTIMEZONE
BEGIN:VEVENT
DTSTART;TZID=Europe/Berlin:20240608T170000
DTEND;TZID=Europe/Berlin:20240608T180000
DTSTAMP:20260420T214039
CREATED:20240607T132650Z
LAST-MODIFIED:20240608T143552Z
UID:602262-1717866000-1717869600@www.patrick-breyer.de
SUMMARY:Webinar zur Chatkontrolle 8. Juni 2024
DESCRIPTION:Einladung zum Webinar zur Chatkontrolle am Samstag den 8. Juni um 17:00 Uhr\, online (Livestream kostenlos) \nDie hochumstrittene verdachtslose Chatkontrolle könnte trotz scharfer Kritik aus der Zivilgesellschaft und von Expert*innen doch noch von den EU-Regierungen beschlossen werden. Die Regierung von Frankreich\, bisher Teil einer Sperrminorität\, welche einen Beschluss im Rat der EU verhindert hatte\, sieht den neuen Vorschlag einer „Uploadmoderation“ im Grundsatz als gangbaren Weg an. Deshalb will die Ratspräsidentschaft die Chatkontrolle schon kurz nach den Europawahlen und noch im Juni von den EU-Regierungen beschließen lassen (Dokument 10666/24). Der neueste Vorschlag des belgischen Ratsvorsitzes vom 28. Mai (Dokument 9093/24) sieht vor\, dass User von Apps mit Chatfunktion entweder der automatischen Durchleuchtung ihrer privat verschickten Bilder\, Fotos und Videos zustimmen müssen oder überhaupt keine Bilder\, Videos und URLs mehr verschicken oder empfangen dürfen. \nDer Europaabgeordnete der Piratenpartei\, Dr. Patrick Breyer\, lädt anlässlich des drohenden Beschlusses zu einem Webinar ein. Den neuen Vorschlag zur Chatkontrolle und wie es jetzt weiter geht diskutieren mit ihm: \n\nN3LL4\, Netzaktivistin und Cybersecurity-Expertin\nTom Jennissen\, Co-Geschäftsführer der Digitalen Gesellschaft e.V.\n\nLivestream (ab 17 Uhr):\n \n\nPeertube\nYoutube\nFacebook\nX\nInstagram\n\nHintergrund\nDie EU will es Chat- und Messenger-Providern vorschreiben\, private Chats\, Nachrichten und E-Mails massenhaft\, anlass- und unterschiedslos auf verdächtige Inhalte durchsuchen. Die Begründung: Strafverfolgung von Kinderpornographie. Die Konsequenz: Eine nie dagewesene Massenüberwachung durch vollautomatisierte Echtzeit-Chatkontrolle und damit die Abschaffung des digitalen Briefgeheimnisses. \nWeitere Konsequenzen des Gesetzentwurfs zur Chatkontrolle sind unwirksame Netzsperren-Zensur\, die Durchleuchtung persönlicher Cloudspeicher einschließlich privater Fotos\, durch verpflichtende Altersüberprüfung das Ende anonymer Kommunikation\, durch Appstore-Zensur das Ende sicherer Messengerapps und die Bevormundung Jugendlicher. \nDas Europäische Parlament hat sich auf Drängen des Europaabgeordneten Dr. Patrick Breyer (Piratenpartei) Ende 2023 fast einstimmig gegen eine verdachtslose Chatkontrolle positioniert. Im Rat der Europäischen Union war bisher eine Einigung am Widerstand einer kritischen Sperrminorität gescheitern. \nPressemitteilung zum aktuellen Vorschlag zur Chatkontrolle: https://www.patrick-breyer.de/chatkontrolle-blockade-wackelt-chatkontrolle-verweigerer-sollen-mit-foto-und-linkverbot-bestraft-werden/ \nInfoportal und Dokumentenarchiv zur Chatkontrolle: chatkontrolle.de
URL:https://www.patrick-breyer.de/event/webinar-chatkontrolle-8-juni-2024/
END:VEVENT
END:VCALENDAR